BEGIN:VCALENDAR
VERSION:2.0
PRODID:JMS Hockey
X-PUBLISHED-TTL:P1W
BEGIN:VEVENT
UID:69e7a3df8cc43
DTSTART:20241207T031500Z
SEQUENCE:0
TRANSP:OPAQUE
DTEND:20241207T044500Z
URL:http://jmshockey.com/games/15473
LOCATION:Eden Prairie Comm Ctr
SUMMARY:Intermediate Game at Eden Prairie Comm Ctr
CLASS:PUBLIC
DTSTAMP:20260421T112047Z
END:VEVENT
END:VCALENDAR