BEGIN:VCALENDAR
VERSION:2.0
PRODID:JMS Hockey
X-PUBLISHED-TTL:P1W
BEGIN:VEVENT
UID:69e7c3b9ab1e4
DTSTART:20241109T033000Z
SEQUENCE:0
TRANSP:OPAQUE
DTEND:20241109T050000Z
URL:http://jmshockey.com/games/15470
LOCATION:Eden Prairie Comm Ctr
SUMMARY:Intermediate Game at Eden Prairie Comm Ctr
CLASS:PUBLIC
DTSTAMP:20260421T133641Z
END:VEVENT
END:VCALENDAR