BEGIN:VCALENDAR
VERSION:2.0
PRODID:JMS Hockey
X-PUBLISHED-TTL:P1W
BEGIN:VEVENT
UID:69e7c3a5e3c07
DTSTART:20241204T024500Z
SEQUENCE:0
TRANSP:OPAQUE
DTEND:20241204T041500Z
URL:http://jmshockey.com/games/15467
LOCATION:Eden Prairie Comm Ctr
SUMMARY:Upper Level Game at Eden Prairie Comm Ctr
CLASS:PUBLIC
DTSTAMP:20260421T133621Z
END:VEVENT
END:VCALENDAR