BEGIN:VCALENDAR
VERSION:2.0
PRODID:JMS Hockey
X-PUBLISHED-TTL:P1W
BEGIN:VEVENT
UID:69e787f4037d8
DTSTART:20250214T032000Z
SEQUENCE:0
TRANSP:OPAQUE
DTEND:20250214T045000Z
URL:http://jmshockey.com/games/15448
LOCATION:Apple Valley Sports Arena
SUMMARY:Intermediate Game at Apple Valley Sports Arena
CLASS:PUBLIC
DTSTAMP:20260421T092140Z
END:VEVENT
END:VCALENDAR