BEGIN:VCALENDAR
VERSION:2.0
PRODID:JMS Hockey
X-PUBLISHED-TTL:P1W
BEGIN:VEVENT
UID:69e7615222ab1
DTSTART:20250207T033000Z
SEQUENCE:0
TRANSP:OPAQUE
DTEND:20250207T050000Z
URL:http://jmshockey.com/games/15447
LOCATION:Apple Valley Sports Arena
SUMMARY:Intermediate Game at Apple Valley Sports Arena
CLASS:PUBLIC
DTSTAMP:20260421T063650Z
END:VEVENT
END:VCALENDAR