BEGIN:VCALENDAR
VERSION:2.0
PRODID:JMS Hockey
X-PUBLISHED-TTL:P1W
BEGIN:VEVENT
UID:69e75f20ec116
DTSTART:20250131T033000Z
SEQUENCE:0
TRANSP:OPAQUE
DTEND:20250131T050000Z
URL:http://jmshockey.com/games/15446
LOCATION:Apple Valley Sports Arena
SUMMARY:Intermediate Game at Apple Valley Sports Arena
CLASS:PUBLIC
DTSTAMP:20260421T062728Z
END:VEVENT
END:VCALENDAR