BEGIN:VCALENDAR
VERSION:2.0
PRODID:JMS Hockey
X-PUBLISHED-TTL:P1W
BEGIN:VEVENT
UID:69e7cba30598d
DTSTART:20100526T003000Z
SEQUENCE:0
TRANSP:OPAQUE
DTEND:20100526T020000Z
URL:http://jmshockey.com/games/1540
LOCATION:Doug Woog Arena (Wakota)
SUMMARY:Level 3 Game at Doug Woog Arena (Wakota)
CLASS:PUBLIC
DTSTAMP:20260421T141027Z
END:VEVENT
END:VCALENDAR