BEGIN:VCALENDAR
VERSION:2.0
PRODID:JMS Hockey
X-PUBLISHED-TTL:P1W
BEGIN:VEVENT
UID:69e7b19664f4e
DTSTART:20250116T034500Z
SEQUENCE:0
TRANSP:OPAQUE
DTEND:20250116T051500Z
URL:http://jmshockey.com/games/15387
LOCATION:Tartan Arena
SUMMARY:Lower Level Game at Tartan Arena
CLASS:PUBLIC
DTSTAMP:20260421T121918Z
END:VEVENT
END:VCALENDAR