BEGIN:VCALENDAR
VERSION:2.0
PRODID:JMS Hockey
X-PUBLISHED-TTL:P1W
BEGIN:VEVENT
UID:69e796300065c
DTSTART:20250301T034000Z
SEQUENCE:0
TRANSP:OPAQUE
DTEND:20250301T051000Z
URL:http://jmshockey.com/games/15361
LOCATION:Vadnais Heights Sports Complex
SUMMARY:Intermediate Game at Vadnais Heights Sports Complex
CLASS:PUBLIC
DTSTAMP:20260421T102224Z
END:VEVENT
END:VCALENDAR