BEGIN:VCALENDAR
VERSION:2.0
PRODID:JMS Hockey
X-PUBLISHED-TTL:P1W
BEGIN:VEVENT
UID:69e770a499908
DTSTART:20241012T024500Z
SEQUENCE:0
TRANSP:OPAQUE
DTEND:20241012T041500Z
URL:http://jmshockey.com/games/15341
LOCATION:St Louis Park Rec Center
SUMMARY:Lower Level Game at St Louis Park Rec Center
CLASS:PUBLIC
DTSTAMP:20260421T074212Z
END:VEVENT
END:VCALENDAR