BEGIN:VCALENDAR
VERSION:2.0
PRODID:JMS Hockey
X-PUBLISHED-TTL:P1W
BEGIN:VEVENT
UID:69e7adc84904e
DTSTART:20240913T024000Z
SEQUENCE:0
TRANSP:OPAQUE
DTEND:20240913T041000Z
URL:http://jmshockey.com/games/15332
LOCATION:St Thomas Ice Arena
SUMMARY:All level Game at St Thomas Ice Arena
CLASS:PUBLIC
DTSTAMP:20260421T120304Z
END:VEVENT
END:VCALENDAR