BEGIN:VCALENDAR
VERSION:2.0
PRODID:JMS Hockey
X-PUBLISHED-TTL:P1W
BEGIN:VEVENT
UID:69e787f5ef96f
DTSTART:20240914T021500Z
SEQUENCE:0
TRANSP:OPAQUE
DTEND:20240914T034500Z
URL:http://jmshockey.com/games/15308
LOCATION:Roseville Skating Center
SUMMARY:Intermediate Game at Roseville Skating Center
CLASS:PUBLIC
DTSTAMP:20260421T092141Z
END:VEVENT
END:VCALENDAR