BEGIN:VCALENDAR
VERSION:2.0
PRODID:JMS Hockey
X-PUBLISHED-TTL:P1W
BEGIN:VEVENT
UID:69e7962ff1c46
DTSTART:20240928T024500Z
SEQUENCE:0
TRANSP:OPAQUE
DTEND:20240928T041500Z
URL:http://jmshockey.com/games/15305
LOCATION:St Louis Park Rec Center
SUMMARY:Lower Level Game at St Louis Park Rec Center
CLASS:PUBLIC
DTSTAMP:20260421T102224Z
END:VEVENT
END:VCALENDAR