BEGIN:VCALENDAR
VERSION:2.0
PRODID:JMS Hockey
X-PUBLISHED-TTL:P1W
BEGIN:VEVENT
UID:69e7b399cc2fa
DTSTART:20100522T023000Z
SEQUENCE:0
TRANSP:OPAQUE
DTEND:20100522T040000Z
URL:http://jmshockey.com/games/1530
LOCATION:Roseville Skating Center
SUMMARY:Level 2 Game at Roseville Skating Center
CLASS:PUBLIC
DTSTAMP:20260421T122753Z
END:VEVENT
END:VCALENDAR