BEGIN:VCALENDAR
VERSION:2.0
PRODID:JMS Hockey
X-PUBLISHED-TTL:P1W
BEGIN:VEVENT
UID:69e7ae12dc17a
DTSTART:20240920T021000Z
SEQUENCE:0
TRANSP:OPAQUE
DTEND:20240920T034000Z
URL:http://jmshockey.com/games/15290
LOCATION:Apple Valley Hayes Park Arena
SUMMARY:Intermediate Game at Apple Valley Hayes Park Arena
CLASS:PUBLIC
DTSTAMP:20260421T120418Z
END:VEVENT
END:VCALENDAR