BEGIN:VCALENDAR
VERSION:2.0
PRODID:JMS Hockey
X-PUBLISHED-TTL:P1W
BEGIN:VEVENT
UID:69e7d67816400
DTSTART:20240913T010000Z
SEQUENCE:0
TRANSP:OPAQUE
DTEND:20240913T023000Z
URL:http://jmshockey.com/games/15289
LOCATION:Apple Valley Hayes Park Arena
SUMMARY:Intermediate Game at Apple Valley Hayes Park Arena
CLASS:PUBLIC
DTSTAMP:20260421T145640Z
END:VEVENT
END:VCALENDAR