BEGIN:VCALENDAR
VERSION:2.0
PRODID:JMS Hockey
X-PUBLISHED-TTL:P1W
BEGIN:VEVENT
UID:69e7a7c865cab
DTSTART:20240911T021000Z
SEQUENCE:0
TRANSP:OPAQUE
DTEND:20240911T034000Z
URL:http://jmshockey.com/games/15282
LOCATION:Apple Valley Hayes Park Arena
SUMMARY:Lower Level Game at Apple Valley Hayes Park Arena
CLASS:PUBLIC
DTSTAMP:20260421T113728Z
END:VEVENT
END:VCALENDAR