BEGIN:VCALENDAR
VERSION:2.0
PRODID:JMS Hockey
X-PUBLISHED-TTL:P1W
BEGIN:VEVENT
UID:69e785d9d35b4
DTSTART:20240918T020000Z
SEQUENCE:0
TRANSP:OPAQUE
DTEND:20240918T033000Z
URL:http://jmshockey.com/games/15275
LOCATION:Eden Prairie Comm Ctr
SUMMARY:Upper Level Game at Eden Prairie Comm Ctr
CLASS:PUBLIC
DTSTAMP:20260421T091241Z
END:VEVENT
END:VCALENDAR