BEGIN:VCALENDAR
VERSION:2.0
PRODID:JMS Hockey
X-PUBLISHED-TTL:P1W
BEGIN:VEVENT
UID:69e7774faf7fc
DTSTART:20240904T014500Z
SEQUENCE:0
TRANSP:OPAQUE
DTEND:20240904T031500Z
URL:http://jmshockey.com/games/15273
LOCATION:Eden Prairie Comm Ctr
SUMMARY:Upper Level Game at Eden Prairie Comm Ctr
CLASS:PUBLIC
DTSTAMP:20260421T081039Z
END:VEVENT
END:VCALENDAR