BEGIN:VCALENDAR
VERSION:2.0
PRODID:JMS Hockey
X-PUBLISHED-TTL:P1W
BEGIN:VEVENT
UID:69e7d666e60c1
DTSTART:20100522T013000Z
SEQUENCE:0
TRANSP:OPAQUE
DTEND:20100522T030000Z
URL:http://jmshockey.com/games/1526
LOCATION:St Louis Park Rec Center
SUMMARY:Level 3 Game at St Louis Park Rec Center
CLASS:PUBLIC
DTSTAMP:20260421T145622Z
END:VEVENT
END:VCALENDAR