BEGIN:VCALENDAR
VERSION:2.0
PRODID:JMS Hockey
X-PUBLISHED-TTL:P1W
BEGIN:VEVENT
UID:69e7ba2548371
DTSTART:20240710T013000Z
SEQUENCE:0
TRANSP:OPAQUE
DTEND:20240710T030000Z
URL:http://jmshockey.com/games/15242
LOCATION:Eden Prairie Comm Ctr
SUMMARY:Upper Level Game at Eden Prairie Comm Ctr
CLASS:PUBLIC
DTSTAMP:20260421T125549Z
END:VEVENT
END:VCALENDAR