BEGIN:VCALENDAR
VERSION:2.0
PRODID:JMS Hockey
X-PUBLISHED-TTL:P1W
BEGIN:VEVENT
UID:69e7878b7e546
DTSTART:20240614T014000Z
SEQUENCE:0
TRANSP:OPAQUE
DTEND:20240614T031000Z
URL:http://jmshockey.com/games/15230
LOCATION:Apple Valley Hayes Park Arena
SUMMARY:Intermediate Game at Apple Valley Hayes Park Arena
CLASS:PUBLIC
DTSTAMP:20260421T091955Z
END:VEVENT
END:VCALENDAR