BEGIN:VCALENDAR
VERSION:2.0
PRODID:JMS Hockey
X-PUBLISHED-TTL:P1W
BEGIN:VEVENT
UID:69e7f951caeb0
DTSTART:20100520T000000Z
SEQUENCE:0
TRANSP:OPAQUE
DTEND:20100520T013000Z
URL:http://jmshockey.com/games/1522
LOCATION:Roseville Skating Center
SUMMARY:Level 2 Game at Roseville Skating Center
CLASS:PUBLIC
DTSTAMP:20260421T172521Z
END:VEVENT
END:VCALENDAR