BEGIN:VCALENDAR
VERSION:2.0
PRODID:JMS Hockey
X-PUBLISHED-TTL:P1W
BEGIN:VEVENT
UID:69e750648d812
DTSTART:20240719T013000Z
SEQUENCE:0
TRANSP:OPAQUE
DTEND:20240719T030000Z
URL:http://jmshockey.com/games/15210
LOCATION:St Thomas Ice Arena
SUMMARY:Upper Level Game at St Thomas Ice Arena
CLASS:PUBLIC
DTSTAMP:20260421T052436Z
END:VEVENT
END:VCALENDAR