BEGIN:VCALENDAR
VERSION:2.0
PRODID:JMS Hockey
X-PUBLISHED-TTL:P1W
BEGIN:VEVENT
UID:69e7af4c474ae
DTSTART:20240720T011500Z
SEQUENCE:0
TRANSP:OPAQUE
DTEND:20240720T024500Z
URL:http://jmshockey.com/games/15184
LOCATION:Roseville Skating Center
SUMMARY:Intermediate Game at Roseville Skating Center
CLASS:PUBLIC
DTSTAMP:20260421T120932Z
END:VEVENT
END:VCALENDAR