BEGIN:VCALENDAR
VERSION:2.0
PRODID:JMS Hockey
X-PUBLISHED-TTL:P1W
BEGIN:VEVENT
UID:69e77935256a8
DTSTART:20240801T013000Z
SEQUENCE:0
TRANSP:OPAQUE
DTEND:20240801T030000Z
URL:http://jmshockey.com/games/15157
LOCATION:Tartan Arena
SUMMARY:Lower Level Game at Tartan Arena
CLASS:PUBLIC
DTSTAMP:20260421T081845Z
END:VEVENT
END:VCALENDAR