BEGIN:VCALENDAR
VERSION:2.0
PRODID:JMS Hockey
X-PUBLISHED-TTL:P1W
BEGIN:VEVENT
UID:69e77b2a7afe4
DTSTART:20240627T013000Z
SEQUENCE:0
TRANSP:OPAQUE
DTEND:20240627T030000Z
URL:http://jmshockey.com/games/15153
LOCATION:Tartan Arena
SUMMARY:Lower Level Game at Tartan Arena
CLASS:PUBLIC
DTSTAMP:20260421T082706Z
END:VEVENT
END:VCALENDAR