BEGIN:VCALENDAR
VERSION:2.0
PRODID:JMS Hockey
X-PUBLISHED-TTL:P1W
BEGIN:VEVENT
UID:69e7774055d1b
DTSTART:20240606T020000Z
SEQUENCE:0
TRANSP:OPAQUE
DTEND:20240606T033000Z
URL:http://jmshockey.com/games/15149
LOCATION:Tartan Arena
SUMMARY:Lower Level Game at Tartan Arena
CLASS:PUBLIC
DTSTAMP:20260421T081024Z
END:VEVENT
END:VCALENDAR