BEGIN:VCALENDAR
VERSION:2.0
PRODID:JMS Hockey
X-PUBLISHED-TTL:P1W
BEGIN:VEVENT
UID:69e7adf093e0e
DTSTART:20100518T023000Z
SEQUENCE:0
TRANSP:OPAQUE
DTEND:20100518T040000Z
URL:http://jmshockey.com/games/1512
LOCATION:Roseville Skating Center
SUMMARY:Level 3 Game at Roseville Skating Center
CLASS:PUBLIC
DTSTAMP:20260421T120344Z
END:VEVENT
END:VCALENDAR