BEGIN:VCALENDAR
VERSION:2.0
PRODID:JMS Hockey
X-PUBLISHED-TTL:P1W
BEGIN:VEVENT
UID:69e783e12ceb0
DTSTART:20240917T020000Z
SEQUENCE:0
TRANSP:OPAQUE
DTEND:20240917T033000Z
URL:http://jmshockey.com/games/15113
LOCATION:Doug Woog Arena (Wakota)
SUMMARY:Lower Level Game at Doug Woog Arena (Wakota)
CLASS:PUBLIC
DTSTAMP:20260421T090417Z
END:VEVENT
END:VCALENDAR