BEGIN:VCALENDAR
VERSION:2.0
PRODID:JMS Hockey
X-PUBLISHED-TTL:P1W
BEGIN:VEVENT
UID:69e765844d133
DTSTART:20240315T023000Z
SEQUENCE:0
TRANSP:OPAQUE
DTEND:20240315T040000Z
URL:http://jmshockey.com/games/15060
LOCATION:Bloomington Ice Gardens
SUMMARY:Intermediate Game at Bloomington Ice Gardens
CLASS:PUBLIC
DTSTAMP:20260421T065444Z
END:VEVENT
END:VCALENDAR