BEGIN:VCALENDAR
VERSION:2.0
PRODID:JMS Hockey
X-PUBLISHED-TTL:P1W
BEGIN:VEVENT
UID:69e7ef9726205
DTSTART:20100515T020000Z
SEQUENCE:0
TRANSP:OPAQUE
DTEND:20100515T033000Z
URL:http://jmshockey.com/games/1505
LOCATION:Richfield Ice Arena
SUMMARY:Level 1 Game at Richfield Ice Arena
CLASS:PUBLIC
DTSTAMP:20260421T164351Z
END:VEVENT
END:VCALENDAR