BEGIN:VCALENDAR
VERSION:2.0
PRODID:JMS Hockey
X-PUBLISHED-TTL:P1W
BEGIN:VEVENT
UID:69e776d7dc548
DTSTART:20240406T004500Z
SEQUENCE:0
TRANSP:OPAQUE
DTEND:20240406T021500Z
URL:http://jmshockey.com/games/15043
LOCATION:Roseville Skating Center
SUMMARY:Intermediate Game at Roseville Skating Center
CLASS:PUBLIC
DTSTAMP:20260421T080839Z
END:VEVENT
END:VCALENDAR