BEGIN:VCALENDAR
VERSION:2.0
PRODID:JMS Hockey
X-PUBLISHED-TTL:P1W
BEGIN:VEVENT
UID:69e7ad747e019
DTSTART:20100515T021500Z
SEQUENCE:0
TRANSP:OPAQUE
DTEND:20100515T034500Z
URL:http://jmshockey.com/games/1503
LOCATION:Bloomington Ice Gardens
SUMMARY:Level 2 Game at Bloomington Ice Gardens
CLASS:PUBLIC
DTSTAMP:20260421T120140Z
END:VEVENT
END:VCALENDAR