BEGIN:VCALENDAR
VERSION:2.0
PRODID:JMS Hockey
X-PUBLISHED-TTL:P1W
BEGIN:VEVENT
UID:69e7d48b65ea5
DTSTART:20240330T004500Z
SEQUENCE:0
TRANSP:OPAQUE
DTEND:20240330T021500Z
URL:http://jmshockey.com/games/15005
LOCATION:Roseville Skating Center
SUMMARY:Intermediate Game at Roseville Skating Center
CLASS:PUBLIC
DTSTAMP:20260421T144827Z
END:VEVENT
END:VCALENDAR