BEGIN:VCALENDAR
VERSION:2.0
PRODID:JMS Hockey
X-PUBLISHED-TTL:P1W
BEGIN:VEVENT
UID:69e7c1419fb00
DTSTART:20100513T014500Z
SEQUENCE:0
TRANSP:OPAQUE
DTEND:20100513T031500Z
URL:http://jmshockey.com/games/1499
LOCATION:Bloomington Ice Gardens
SUMMARY:Level 4 Game at Bloomington Ice Gardens
CLASS:PUBLIC
DTSTAMP:20260421T132609Z
END:VEVENT
END:VCALENDAR