BEGIN:VCALENDAR
VERSION:2.0
PRODID:JMS Hockey
X-PUBLISHED-TTL:P1W
BEGIN:VEVENT
UID:69e7b194e70f5
DTSTART:20240106T033000Z
SEQUENCE:0
TRANSP:OPAQUE
DTEND:20240106T050000Z
URL:http://jmshockey.com/games/14981
LOCATION:Vadnais Heights Sports Complex
SUMMARY:Intermediate Game at Vadnais Heights Sports Complex
CLASS:PUBLIC
DTSTAMP:20260421T121916Z
END:VEVENT
END:VCALENDAR