BEGIN:VCALENDAR
VERSION:2.0
PRODID:JMS Hockey
X-PUBLISHED-TTL:P1W
BEGIN:VEVENT
UID:69e776bd4956b
DTSTART:20240413T024500Z
SEQUENCE:0
TRANSP:OPAQUE
DTEND:20240413T041500Z
URL:http://jmshockey.com/games/14975
LOCATION:St Louis Park Rec Center
SUMMARY:Lower Level Game at St Louis Park Rec Center
CLASS:PUBLIC
DTSTAMP:20260421T080813Z
END:VEVENT
END:VCALENDAR