BEGIN:VCALENDAR
VERSION:2.0
PRODID:JMS Hockey
X-PUBLISHED-TTL:P1W
BEGIN:VEVENT
UID:69e7859abea90
DTSTART:20240103T040000Z
SEQUENCE:0
TRANSP:OPAQUE
DTEND:20240103T053000Z
URL:http://jmshockey.com/games/14954
LOCATION:Maple Grove
SUMMARY:Intermediate Game at Maple Grove
CLASS:PUBLIC
DTSTAMP:20260421T091138Z
END:VEVENT
END:VCALENDAR