BEGIN:VCALENDAR
VERSION:2.0
PRODID:JMS Hockey
X-PUBLISHED-TTL:P1W
BEGIN:VEVENT
UID:69e7ddb343a9e
DTSTART:20100511T023000Z
SEQUENCE:0
TRANSP:OPAQUE
DTEND:20100511T040000Z
URL:http://jmshockey.com/games/1494
LOCATION:Richfield Ice Arena
SUMMARY:Level 5 Game at Richfield Ice Arena
CLASS:PUBLIC
DTSTAMP:20260421T152731Z
END:VEVENT
END:VCALENDAR