BEGIN:VCALENDAR
VERSION:2.0
PRODID:JMS Hockey
X-PUBLISHED-TTL:P1W
BEGIN:VEVENT
UID:69e77b4214da7
DTSTART:20231216T030000Z
SEQUENCE:0
TRANSP:OPAQUE
DTEND:20231216T043000Z
URL:http://jmshockey.com/games/14881
LOCATION:Aldrich Arena
SUMMARY:Intermediate Game at Aldrich Arena
CLASS:PUBLIC
DTSTAMP:20260421T082730Z
END:VEVENT
END:VCALENDAR