BEGIN:VCALENDAR
VERSION:2.0
PRODID:JMS Hockey
X-PUBLISHED-TTL:P1W
BEGIN:VEVENT
UID:69e79a2ba1b8e
DTSTART:20240220T025000Z
SEQUENCE:0
TRANSP:OPAQUE
DTEND:20240220T042000Z
URL:http://jmshockey.com/games/14846
LOCATION:Doug Woog Arena (Wakota)
SUMMARY:Lower Level Game at Doug Woog Arena (Wakota)
CLASS:PUBLIC
DTSTAMP:20260421T103923Z
END:VEVENT
END:VCALENDAR