BEGIN:VCALENDAR
VERSION:2.0
PRODID:JMS Hockey
X-PUBLISHED-TTL:P1W
BEGIN:VEVENT
UID:69e779082a4c7
DTSTART:20240213T025000Z
SEQUENCE:0
TRANSP:OPAQUE
DTEND:20240213T042000Z
URL:http://jmshockey.com/games/14845
LOCATION:Doug Woog Arena (Wakota)
SUMMARY:Lower Level Game at Doug Woog Arena (Wakota)
CLASS:PUBLIC
DTSTAMP:20260421T081800Z
END:VEVENT
END:VCALENDAR