BEGIN:VCALENDAR
VERSION:2.0
PRODID:JMS Hockey
X-PUBLISHED-TTL:P1W
BEGIN:VEVENT
UID:69e7c4a82be77
DTSTART:20081115T030000Z
SEQUENCE:0
TRANSP:OPAQUE
DTEND:20081115T043000Z
URL:http://jmshockey.com/games/148
LOCATION:Plymouth Ice Center
SUMMARY:Level 3 Game at Plymouth Ice Center
CLASS:PUBLIC
DTSTAMP:20260421T134040Z
END:VEVENT
END:VCALENDAR