BEGIN:VCALENDAR
VERSION:2.0
PRODID:JMS Hockey
X-PUBLISHED-TTL:P1W
BEGIN:VEVENT
UID:69e7a7c86edcc
DTSTART:20231108T031500Z
SEQUENCE:0
TRANSP:OPAQUE
DTEND:20231108T044500Z
URL:http://jmshockey.com/games/14756
LOCATION:Eden Prairie Comm Ctr
SUMMARY:Upper Level Game at Eden Prairie Comm Ctr
CLASS:PUBLIC
DTSTAMP:20260421T113728Z
END:VEVENT
END:VCALENDAR