BEGIN:VCALENDAR
VERSION:2.0
PRODID:JMS Hockey
X-PUBLISHED-TTL:P1W
BEGIN:VEVENT
UID:69e7a1a66baf2
DTSTART:20231018T014500Z
SEQUENCE:0
TRANSP:OPAQUE
DTEND:20231018T031500Z
URL:http://jmshockey.com/games/14753
LOCATION:Eden Prairie Comm Ctr
SUMMARY:Upper Level Game at Eden Prairie Comm Ctr
CLASS:PUBLIC
DTSTAMP:20260421T111118Z
END:VEVENT
END:VCALENDAR