BEGIN:VCALENDAR
VERSION:2.0
PRODID:JMS Hockey
X-PUBLISHED-TTL:P1W
BEGIN:VEVENT
UID:69e7a3d7441b1
DTSTART:20231011T014500Z
SEQUENCE:0
TRANSP:OPAQUE
DTEND:20231011T031500Z
URL:http://jmshockey.com/games/14752
LOCATION:Eden Prairie Comm Ctr
SUMMARY:Upper Level Game at Eden Prairie Comm Ctr
CLASS:PUBLIC
DTSTAMP:20260421T112039Z
END:VEVENT
END:VCALENDAR