BEGIN:VCALENDAR
VERSION:2.0
PRODID:JMS Hockey
X-PUBLISHED-TTL:P1W
BEGIN:VEVENT
UID:69e7d539c2715
DTSTART:20100505T013000Z
SEQUENCE:0
TRANSP:OPAQUE
DTEND:20100505T030000Z
URL:http://jmshockey.com/games/1474
LOCATION:Plymouth Ice Center
SUMMARY:Level 2 Game at Plymouth Ice Center
CLASS:PUBLIC
DTSTAMP:20260421T145121Z
END:VEVENT
END:VCALENDAR