BEGIN:VCALENDAR
VERSION:2.0
PRODID:JMS Hockey
X-PUBLISHED-TTL:P1W
BEGIN:VEVENT
UID:69e7ddcf545fa
DTSTART:20230930T031500Z
SEQUENCE:0
TRANSP:OPAQUE
DTEND:20230930T044500Z
URL:http://jmshockey.com/games/14734
LOCATION:Roseville Skating Center
SUMMARY:Intermediate Game at Roseville Skating Center
CLASS:PUBLIC
DTSTAMP:20260421T152759Z
END:VEVENT
END:VCALENDAR