BEGIN:VCALENDAR
VERSION:2.0
PRODID:JMS Hockey
X-PUBLISHED-TTL:P1W
BEGIN:VEVENT
UID:69e7c354a2ca6
DTSTART:20100504T001500Z
SEQUENCE:0
TRANSP:OPAQUE
DTEND:20100504T014500Z
URL:http://jmshockey.com/games/1473
LOCATION:New Hope Ice Arena
SUMMARY:Level 1 Game at New Hope Ice Arena
CLASS:PUBLIC
DTSTAMP:20260421T133500Z
END:VEVENT
END:VCALENDAR